BEGIN:VCALENDAR
VERSION:2.0
PRODID:-//Stuttgarter Oratorienchor e.V. - ECPv6.15.20//NONSGML v1.0//EN
CALSCALE:GREGORIAN
METHOD:PUBLISH
X-WR-CALNAME:Stuttgarter Oratorienchor e.V.
X-ORIGINAL-URL:https://www.stuttgarter-oratorienchor.de
X-WR-CALDESC:Veranstaltungen für Stuttgarter Oratorienchor e.V.
REFRESH-INTERVAL;VALUE=DURATION:PT1H
X-Robots-Tag:noindex
X-PUBLISHED-TTL:PT1H
BEGIN:VTIMEZONE
TZID:Europe/Berlin
BEGIN:DAYLIGHT
TZOFFSETFROM:+0100
TZOFFSETTO:+0200
TZNAME:CEST
DTSTART:20220327T010000
END:DAYLIGHT
BEGIN:STANDARD
TZOFFSETFROM:+0200
TZOFFSETTO:+0100
TZNAME:CET
DTSTART:20221030T010000
END:STANDARD
BEGIN:DAYLIGHT
TZOFFSETFROM:+0100
TZOFFSETTO:+0200
TZNAME:CEST
DTSTART:20230326T010000
END:DAYLIGHT
BEGIN:STANDARD
TZOFFSETFROM:+0200
TZOFFSETTO:+0100
TZNAME:CET
DTSTART:20231029T010000
END:STANDARD
BEGIN:DAYLIGHT
TZOFFSETFROM:+0100
TZOFFSETTO:+0200
TZNAME:CEST
DTSTART:20240331T010000
END:DAYLIGHT
BEGIN:STANDARD
TZOFFSETFROM:+0200
TZOFFSETTO:+0100
TZNAME:CET
DTSTART:20241027T010000
END:STANDARD
END:VTIMEZONE
BEGIN:VEVENT
DTSTART;TZID=Europe/Berlin:20230402T190000
DTEND;TZID=Europe/Berlin:20230402T210000
DTSTAMP:20260424T025124
CREATED:20220430T092637Z
LAST-MODIFIED:20230302T133021Z
UID:9246-1680462000-1680469200@www.stuttgarter-oratorienchor.de
SUMMARY:A. Dvořák: Stabat Mater
DESCRIPTION:Programm: \nAntonín Dvořák: Stabat Mater op. 58\n\nMitwirkende:\nStuttgarter Oratorienchor\nStuttgarter Concertino \nXenia von Randow (Sopran)\nJasmin Hofman (Alt)\nPhilipp Nicklaus (Tenor)\nJasper Leever (Bass) \nEnrico Trummer (Musikalische Leitung) \n\nTicket-Vorverkauf hier
URL:https://www.stuttgarter-oratorienchor.de/event/a-dvorak-stabat-mater/
LOCATION:Leonhardskirche Stuttgart\, Leonhardsplatz 26\, Stuttgart\, Baden-Württemberg\, 70182\, Germany
CATEGORIES:Passionskonzert
ATTACH;FMTTYPE=image/jpeg:https://www.stuttgarter-oratorienchor.de/wp-content/uploads/2022/04/pexels-pixabay-208216-scaled-e1667118781878.jpg
GEO:48.77342;9.18072
X-APPLE-STRUCTURED-LOCATION;VALUE=URI;X-ADDRESS=Leonhardskirche Stuttgart Leonhardsplatz 26 Stuttgart Baden-Württemberg 70182 Germany;X-APPLE-RADIUS=500;X-TITLE=Leonhardsplatz 26:geo:9.18072,48.77342
END:VEVENT
END:VCALENDAR